BEGIN:VCALENDAR
VERSION:2.0
PRODID:-//IEEC - ECPv6.15.20//NONSGML v1.0//EN
CALSCALE:GREGORIAN
METHOD:PUBLISH
X-WR-CALNAME:IEEC
X-ORIGINAL-URL:https://ieec.edu.ar
X-WR-CALDESC:Eventos para IEEC
REFRESH-INTERVAL;VALUE=DURATION:PT1H
X-Robots-Tag:noindex
X-PUBLISHED-TTL:PT1H
BEGIN:VTIMEZONE
TZID:America/Argentina/Buenos_Aires
BEGIN:STANDARD
TZOFFSETFROM:-0300
TZOFFSETTO:-0300
TZNAME:-03
DTSTART:20250101T000000
END:STANDARD
END:VTIMEZONE
BEGIN:VEVENT
DTSTART;TZID=America/Argentina/Buenos_Aires:20260629T180000
DTEND;TZID=America/Argentina/Buenos_Aires:20260629T180000
DTSTAMP:20260421T151810
CREATED:20251227T190802Z
LAST-MODIFIED:20260409T194124Z
UID:12578-1782756000-1782756000@ieec.edu.ar
SUMMARY:Basics of Supply Chain Management
DESCRIPTION:Para aprender las habilidades y competencias necesarias para planificar y programar los procesos logísticos y de servicios\, desde la compra y producción hasta la entrega a los clientes. Lunes y miércoles de 18 a 21 horas. Más info
URL:https://ieec.edu.ar/event/basics-of-supply-chain-management-3/
LOCATION:A Distancia – eLearning\, Buenos Aires\, CABA\, Argentina
CATEGORIES:A Distancia,Cursos IEEC,eLearning
ATTACH;FMTTYPE=image/jpeg:https://ieec.edu.ar/wp-content/uploads/4-1.jpg
ORGANIZER;CN="IEEC":MAILTO:admisiones@ieec.edu.ar
END:VEVENT
END:VCALENDAR