BEGIN:VCALENDAR
VERSION:2.0
PRODID:-//IEEC - ECPv6.15.20//NONSGML v1.0//EN
CALSCALE:GREGORIAN
METHOD:PUBLISH
X-WR-CALNAME:IEEC
X-ORIGINAL-URL:https://ieec.edu.ar
X-WR-CALDESC:Eventos para IEEC
REFRESH-INTERVAL;VALUE=DURATION:PT1H
X-Robots-Tag:noindex
X-PUBLISHED-TTL:PT1H
BEGIN:VTIMEZONE
TZID:America/Argentina/Buenos_Aires
BEGIN:STANDARD
TZOFFSETFROM:-0300
TZOFFSETTO:-0300
TZNAME:-03
DTSTART:20250101T000000
END:STANDARD
END:VTIMEZONE
BEGIN:VEVENT
DTSTART;TZID=America/Argentina/Buenos_Aires:20260506T180000
DTEND;TZID=America/Argentina/Buenos_Aires:20260506T220000
DTSTAMP:20260421T110718
CREATED:20251227T194136Z
LAST-MODIFIED:20260101T201555Z
UID:12603-1778090400-1778104800@ieec.edu.ar
SUMMARY:Project Management
DESCRIPTION:El curso aborda la disciplina como un modelo de gestión estratégico\, clave para implementar cambios organizacionales de manera efectiva. Basado en los lineamientos del PMBOK del PMI\, desarrolla los conceptos y las herramientas necesarias para planificar\, ejecutar y controlar proyectos\, integrando las áreas de conocimiento clave y fomentando una visión sistémica. La capacitación combina teoría y práctica\, prepara para la certificación internacional PMP y resulta aplicable a todas las áreas de la organización donde el cambio se materializa a través de proyectos. Más info
URL:https://ieec.edu.ar/event/project-management/
LOCATION:A Distancia – eLearning\, Buenos Aires\, CABA\, Argentina
CATEGORIES:A Distancia,Cursos IEEC,eLearning
ATTACH;FMTTYPE=image/png:https://ieec.edu.ar/wp-content/uploads/Tapa_PM.png
ORGANIZER;CN="IEEC":MAILTO:admisiones@ieec.edu.ar
END:VEVENT
END:VCALENDAR