BEGIN:VCALENDAR
VERSION:2.0
PRODID:-//IEEC - ECPv6.15.20//NONSGML v1.0//EN
CALSCALE:GREGORIAN
METHOD:PUBLISH
X-WR-CALNAME:IEEC
X-ORIGINAL-URL:https://ieec.edu.ar
X-WR-CALDESC:Eventos para IEEC
REFRESH-INTERVAL;VALUE=DURATION:PT1H
X-Robots-Tag:noindex
X-PUBLISHED-TTL:PT1H
BEGIN:VTIMEZONE
TZID:America/Argentina/Buenos_Aires
BEGIN:STANDARD
TZOFFSETFROM:-0300
TZOFFSETTO:-0300
TZNAME:-03
DTSTART:20250101T000000
END:STANDARD
END:VTIMEZONE
BEGIN:VEVENT
DTSTART;TZID=America/Argentina/Buenos_Aires:20260728T180000
DTEND;TZID=America/Argentina/Buenos_Aires:20260728T210000
DTSTAMP:20260421T171458
CREATED:20221107T000616Z
LAST-MODIFIED:20260101T201530Z
UID:9643-1785261600-1785272400@ieec.edu.ar
SUMMARY:SRM: Gestión de la Relación con Proveedores Críticos
DESCRIPTION:Curso destinado a desarrollar los conocimientos técnicos\, herramientas y metodologías para iniciar y consolidar la relación y administración de proveedores para lograr un impacto en la cadena de valor de la organización. Ocho martes de 18:00 a 21 hs. Ver información del curso.
URL:https://ieec.edu.ar/event/srm-gestion-de-la-relacion-con-proveedores-criticos/
LOCATION:A Distancia – eLearning\, Buenos Aires\, CABA\, Argentina
CATEGORIES:A Distancia,Cursos IEEC,eLearning
ATTACH;FMTTYPE=image/png:https://ieec.edu.ar/wp-content/uploads/Diseno-sin-titulo-2025-12-26T181203.641.png
ORGANIZER;CN="IEEC":MAILTO:admisiones@ieec.edu.ar
END:VEVENT
END:VCALENDAR