BEGIN:VCALENDAR
VERSION:2.0
PRODID:-//IEEC - ECPv6.15.20//NONSGML v1.0//EN
CALSCALE:GREGORIAN
METHOD:PUBLISH
X-ORIGINAL-URL:https://ieec.edu.ar
X-WR-CALDESC:Eventos para IEEC
REFRESH-INTERVAL;VALUE=DURATION:PT1H
X-Robots-Tag:noindex
X-PUBLISHED-TTL:PT1H
BEGIN:VTIMEZONE
TZID:America/Argentina/Buenos_Aires
BEGIN:STANDARD
TZOFFSETFROM:-0300
TZOFFSETTO:-0300
TZNAME:-03
DTSTART:20240101T000000
END:STANDARD
END:VTIMEZONE
BEGIN:VEVENT
DTSTART;TZID=America/Argentina/Buenos_Aires:20250701T181500
DTEND;TZID=America/Argentina/Buenos_Aires:20250701T210000
DTSTAMP:20260422T050624
CREATED:20240821T040733Z
LAST-MODIFIED:20260101T201623Z
UID:10427-1751393700-1751403600@ieec.edu.ar
SUMMARY:Curso: Comenzando un Negocio
DESCRIPTION:Creemos tener una buena idea para llevar adelante un emprendimiento\, pero…¿alcanza con una buena idea? \nLa Idea es condición necesaria pero no garantiza el éxito\, si no esta acompañada de un sin número de temas a considerar\, de manera sistémica. Y contar con la mayor información nos acerca a la factibilidad de pasar la idea a la acción. \nEl objetivo de este curso es brindar una metodología práctica de análisis del negocio y su puesta en marcha\, que permita: \n\nEstructurar la IDEA DEL NEGOCIO.\nContribuir a la TOMA DE DECISIONES.\nConstruir una HOJA DE RUTA.\nLlevar a cabo una buena GESTIÓN Y CONTROL\n\nLos martes de 18 a 21 horas \nMayor información: https://ieec.edu.ar/curso-comenzando-un-negocio/ \n 
URL:https://ieec.edu.ar/event/curso-comenzando-un-negocio/
LOCATION:A Distancia – eLearning\, Buenos Aires\, CABA\, Argentina
CATEGORIES:A Distancia,Cursos IEEC,eLearning
ORGANIZER;CN="IEEC":MAILTO:admisiones@ieec.edu.ar
END:VEVENT
BEGIN:VEVENT
DTSTART;TZID=America/Argentina/Buenos_Aires:20250710T180000
DTEND;TZID=America/Argentina/Buenos_Aires:20250710T210000
DTSTAMP:20260422T050624
CREATED:20221107T014624Z
LAST-MODIFIED:20260101T201623Z
UID:9648-1752170400-1752181200@ieec.edu.ar
SUMMARY:Curso: Profesional en Abastecimiento y Compras - PAC
DESCRIPTION:Curso de nivel gerencial para Compras y Abastecimiento que desarrolla los contenidos más actuales de abastecimiento en el globalizado mundo de las Compras. Prepara para la certificación CPSM del ISM.  Más info \n 
URL:https://ieec.edu.ar/event/curso-profesional-en-abastecimiento-y-compras-pac/
LOCATION:A Distancia – eLearning\, Buenos Aires\, CABA\, Argentina
CATEGORIES:A Distancia,Cursos IEEC,eLearning
ORGANIZER;CN="IEEC":MAILTO:admisiones@ieec.edu.ar
END:VEVENT
BEGIN:VEVENT
DTSTART;TZID=America/Argentina/Buenos_Aires:20250722T180000
DTEND;TZID=America/Argentina/Buenos_Aires:20250722T210000
DTSTAMP:20260422T050624
CREATED:20250515T012212Z
LAST-MODIFIED:20260101T201623Z
UID:10914-1753207200-1753218000@ieec.edu.ar
SUMMARY:Control de Gestión
DESCRIPTION:El control de gestión se enfoca en la planificación\, el seguimiento y la evaluación de los resultados de la empresa\, con el objetivo de mejorar la eficiencia y la eficacia de la organización. \nAcceder a mayor información (hacer clic). \n 
URL:https://ieec.edu.ar/event/control-de-gestion/
LOCATION:A Distancia – eLearning\, Buenos Aires\, CABA\, Argentina
CATEGORIES:A Distancia,Cursos IEEC,eLearning
ORGANIZER;CN="IEEC":MAILTO:admisiones@ieec.edu.ar
END:VEVENT
BEGIN:VEVENT
DTSTART;TZID=America/Argentina/Buenos_Aires:20250726T090000
DTEND;TZID=America/Argentina/Buenos_Aires:20250726T130000
DTSTAMP:20260422T050624
CREATED:20151123T182519Z
LAST-MODIFIED:20260101T201623Z
UID:1619-1753520400-1753534800@ieec.edu.ar
SUMMARY:Curso: Ejecución y Control de las Operaciones (ECO)
DESCRIPTION:Presentar\, clasificar y evaluar los distintos entornos (MTS\, MTO\, ATO\, ETO\, PUSH y PULL)\, que determinan a la logística operativa y al control de sus operaciones correspondientes. Prepara para la certificación CPIM en logística de materiales de APICS. Sábados 9 a 13 horas (huso horario de Argentina). Ver info del curso.
URL:https://ieec.edu.ar/event/curso-ejecucion-y-control-operaciones-eco/
LOCATION:UMSA\, Av. Corrientes 1723\, Capital Federal\, CABA\, Argentina
CATEGORIES:A Distancia,Cursos IEEC,eLearning
ORGANIZER;CN="IEEC":MAILTO:admisiones@ieec.edu.ar
END:VEVENT
END:VCALENDAR