BEGIN:VCALENDAR
VERSION:2.0
PRODID:-//IEEC - ECPv6.15.20//NONSGML v1.0//EN
CALSCALE:GREGORIAN
METHOD:PUBLISH
X-WR-CALNAME:IEEC
X-ORIGINAL-URL:https://ieec.edu.ar
X-WR-CALDESC:Eventos para IEEC
REFRESH-INTERVAL;VALUE=DURATION:PT1H
X-Robots-Tag:noindex
X-PUBLISHED-TTL:PT1H
BEGIN:VTIMEZONE
TZID:America/Argentina/Buenos_Aires
BEGIN:STANDARD
TZOFFSETFROM:-0300
TZOFFSETTO:-0300
TZNAME:-03
DTSTART:20250101T000000
END:STANDARD
END:VTIMEZONE
BEGIN:VEVENT
DTSTART;VALUE=DATE:20260210
DTEND;VALUE=DATE:20260211
DTSTAMP:20260421T172952
CREATED:20251120T033711Z
LAST-MODIFIED:20260101T205655Z
UID:12236-1770681600-1770767999@ieec.edu.ar
SUMMARY:Diploma en Supply Chain Management y Logística (DCL)
DESCRIPTION:Diseñado pensando en la integración flexible de las áreas que más demandan trabajar en conjunto: Supply Chain Management\, Logística\, Transportes\, Abastecimiento y Compras y Project Management. Y la aplicación de Data Analytics como facilitador de las decisiones que se tomen. Ideal para un plan de carrera desarrollado por el alumno según sus aspiraciones profesionales.\nMás detalles
URL:https://ieec.edu.ar/event/diploma-en-supply-chain-management-y-logistica-dcl/
LOCATION:A Distancia – eLearning\, Buenos Aires\, CABA\, Argentina
CATEGORIES:A Distancia,Cursos IEEC,Diploma,eLearning
ATTACH;FMTTYPE=image/jpeg:https://ieec.edu.ar/wp-content/uploads/6.jpg
ORGANIZER;CN="IEEC":MAILTO:admisiones@ieec.edu.ar
END:VEVENT
BEGIN:VEVENT
DTSTART;TZID=America/Argentina/Buenos_Aires:20260210T180000
DTEND;TZID=America/Argentina/Buenos_Aires:20260210T210000
DTSTAMP:20260421T172952
CREATED:20251120T033827Z
LAST-MODIFIED:20260101T201556Z
UID:12238-1770746400-1770757200@ieec.edu.ar
SUMMARY:Basics of Supply Chain Management
DESCRIPTION:Para aprender las habilidades y competencias necesarias para planificar y programar los procesos logísticos y de servicios\, desde la compra y producción hasta la entrega a los clientes. Martes y jueves 18 a 21 horas. Más info
URL:https://ieec.edu.ar/event/curso-basics-of-supply-chain-management-8/
LOCATION:A Distancia – eLearning\, Buenos Aires\, CABA\, Argentina
CATEGORIES:A Distancia,Cursos IEEC,eLearning
ATTACH;FMTTYPE=image/jpeg:https://ieec.edu.ar/wp-content/uploads/4-1.jpg
ORGANIZER;CN="IEEC":MAILTO:admisiones@ieec.edu.ar
END:VEVENT
END:VCALENDAR