BEGIN:VCALENDAR
VERSION:2.0
PRODID:-//IEEC - ECPv6.15.20//NONSGML v1.0//EN
CALSCALE:GREGORIAN
METHOD:PUBLISH
X-ORIGINAL-URL:https://ieec.edu.ar
X-WR-CALDESC:Eventos para IEEC
REFRESH-INTERVAL;VALUE=DURATION:PT1H
X-Robots-Tag:noindex
X-PUBLISHED-TTL:PT1H
BEGIN:VTIMEZONE
TZID:America/Argentina/Buenos_Aires
BEGIN:STANDARD
TZOFFSETFROM:-0300
TZOFFSETTO:-0300
TZNAME:-03
DTSTART:20250101T000000
END:STANDARD
END:VTIMEZONE
BEGIN:VEVENT
DTSTART;TZID=America/Argentina/Buenos_Aires:20260319T180000
DTEND;TZID=America/Argentina/Buenos_Aires:20260319T210000
DTSTAMP:20260421T155917
CREATED:20251120T033933Z
LAST-MODIFIED:20260101T201556Z
UID:12240-1773943200-1773954000@ieec.edu.ar
SUMMARY:Profesional en Abastecimiento y Compras - PAC
DESCRIPTION:Curso de nivel gerencial para Compras y Abastecimiento que desarrolla los contenidos más actuales de abastecimiento en el globalizado mundo de las Compras. Prepara para la certificación CPSM del ISM.  Más info
URL:https://ieec.edu.ar/event/curso-profesional-en-abastecimiento-y-compras-pac-2/
LOCATION:A Distancia – eLearning\, Buenos Aires\, CABA\, Argentina
CATEGORIES:A Distancia,Cursos IEEC,eLearning,Programa
ATTACH;FMTTYPE=image/jpeg:https://ieec.edu.ar/wp-content/uploads/7.jpg
ORGANIZER;CN="IEEC":MAILTO:admisiones@ieec.edu.ar
END:VEVENT
BEGIN:VEVENT
DTSTART;TZID=America/Argentina/Buenos_Aires:20260319T181500
DTEND;TZID=America/Argentina/Buenos_Aires:20260319T210000
DTSTAMP:20260421T155917
CREATED:20170222T204415Z
LAST-MODIFIED:20260101T201556Z
UID:3488-1773944100-1773954000@ieec.edu.ar
SUMMARY:Herramientas prácticas para la Gestión de Compras
DESCRIPTION:Aprende a gestionar la cadena de abastecimiento con una visión global de la empresa y sus procesos\, a identificar los procesos que agregan valor\, a construir un equipo eficiente prestando atención a las nuevas oportunidades de abastecimiento internacional. Curso corto\, introductorio al área de Compras. Ideal para niveles iniciales. Ver info del curso.
URL:https://ieec.edu.ar/event/curso-herramientas-practicas-la-gestion-compras/
LOCATION:A Distancia – eLearning\, Buenos Aires\, CABA\, Argentina
CATEGORIES:A Distancia,Cursos IEEC,eLearning
ATTACH;FMTTYPE=image/png:https://ieec.edu.ar/wp-content/uploads/Diseno-sin-titulo-2025-12-26T180601.892.png
ORGANIZER;CN="IEEC":MAILTO:admisiones@ieec.edu.ar
END:VEVENT
BEGIN:VEVENT
DTSTART;TZID=America/Argentina/Buenos_Aires:20260323T090000
DTEND;TZID=America/Argentina/Buenos_Aires:20260323T130000
DTSTAMP:20260421T155917
CREATED:20251120T034042Z
LAST-MODIFIED:20260101T201556Z
UID:12242-1774256400-1774270800@ieec.edu.ar
SUMMARY:Planificación Logística Avanzada de Materiales y Servicios (PALMS)
DESCRIPTION:Herramientas de planificación\, ejecución y control de las operaciones logísticas. Prepara para la certificación internacional CPIM de APICS.  Más info
URL:https://ieec.edu.ar/event/curso-planificacion-logistica-avanzada-de-materiales-y-servicios-palms/
LOCATION:A Distancia – eLearning\, Buenos Aires\, CABA\, Argentina
CATEGORIES:A Distancia,Cursos IEEC,eLearning
ATTACH;FMTTYPE=image/jpeg:https://ieec.edu.ar/wp-content/uploads/8.jpg
ORGANIZER;CN="IEEC":MAILTO:admisiones@ieec.edu.ar
END:VEVENT
BEGIN:VEVENT
DTSTART;TZID=America/Argentina/Buenos_Aires:20260325T180000
DTEND;TZID=America/Argentina/Buenos_Aires:20260325T210000
DTSTAMP:20260421T155917
CREATED:20251227T190320Z
LAST-MODIFIED:20260220T122721Z
UID:12573-1774461600-1774472400@ieec.edu.ar
SUMMARY:Basics of Supply Chain Management
DESCRIPTION:Para aprender las habilidades y competencias necesarias para planificar y programar los procesos logísticos y de servicios\, desde la compra y producción hasta la entrega a los clientes. Lunes y miércoles 18 a 21 horas. Más info
URL:https://ieec.edu.ar/event/basics-of-supply-chain-management/
LOCATION:A Distancia – eLearning\, Buenos Aires\, CABA\, Argentina
CATEGORIES:A Distancia,Cursos IEEC,eLearning
ATTACH;FMTTYPE=image/jpeg:https://ieec.edu.ar/wp-content/uploads/4-1.jpg
ORGANIZER;CN="IEEC":MAILTO:admisiones@ieec.edu.ar
END:VEVENT
END:VCALENDAR