BEGIN:VCALENDAR
VERSION:2.0
PRODID:-//IEEC - ECPv6.15.20//NONSGML v1.0//EN
CALSCALE:GREGORIAN
METHOD:PUBLISH
X-WR-CALNAME:IEEC
X-ORIGINAL-URL:https://ieec.edu.ar
X-WR-CALDESC:Eventos para IEEC
REFRESH-INTERVAL;VALUE=DURATION:PT1H
X-Robots-Tag:noindex
X-PUBLISHED-TTL:PT1H
BEGIN:VTIMEZONE
TZID:America/Argentina/Buenos_Aires
BEGIN:STANDARD
TZOFFSETFROM:-0300
TZOFFSETTO:-0300
TZNAME:-03
DTSTART:20240101T000000
END:STANDARD
END:VTIMEZONE
BEGIN:VEVENT
DTSTART;TZID=America/Argentina/Buenos_Aires:20250901T180000
DTEND;TZID=America/Argentina/Buenos_Aires:20250901T210000
DTSTAMP:20260421T221207
CREATED:20250620T021537Z
LAST-MODIFIED:20260101T201556Z
UID:10999-1756749600-1756760400@ieec.edu.ar
SUMMARY:Gestión Global del Transporte en Supply Chain
DESCRIPTION:El curso online Logística Internacional y Transporte aborda temáticas como infraestructura y sistemas\, infraestructura internacional\, regulaciones\, documentación y despachos de aduana\, finanzas y opciones de pago\, y consideraciones monetarias y fiscales. \nMayor información: hacé click  \n 
URL:https://ieec.edu.ar/event/logistica-internacional-y-transporte/
LOCATION:A Distancia – eLearning\, Buenos Aires\, CABA\, Argentina
CATEGORIES:A Distancia,Cursos IEEC,eLearning
ORGANIZER;CN="IEEC":MAILTO:admisiones@ieec.edu.ar
END:VEVENT
BEGIN:VEVENT
DTSTART;TZID=America/Argentina/Buenos_Aires:20250913T090000
DTEND;TZID=America/Argentina/Buenos_Aires:20250913T130000
DTSTAMP:20260421T221207
CREATED:20240423T183840Z
LAST-MODIFIED:20260101T201556Z
UID:1620-1757754000-1757768400@ieec.edu.ar
SUMMARY:Curso: Gestión de Recursos Estratégicos (SMR)
DESCRIPTION:Aporta la visión completa de la supply chain. Entornos competitivos con la visión completa e integrada de la empresa y la cadena de abastecimiento. Se aplica en empresas de manufactura y servicios. Sábados 9 a 13 horas. Ver info del curso
URL:https://ieec.edu.ar/event/curso-gestion-recursos-estrategicos-smr/
LOCATION:A Distancia – eLearning\, Buenos Aires\, CABA\, Argentina
CATEGORIES:A Distancia,Cursos IEEC,eLearning
ORGANIZER;CN="IEEC":MAILTO:admisiones@ieec.edu.ar
END:VEVENT
END:VCALENDAR