BEGIN:VCALENDAR
VERSION:2.0
PRODID:-//IEEC - ECPv6.15.20//NONSGML v1.0//EN
CALSCALE:GREGORIAN
METHOD:PUBLISH
X-ORIGINAL-URL:https://ieec.edu.ar
X-WR-CALDESC:Eventos para IEEC
REFRESH-INTERVAL;VALUE=DURATION:PT1H
X-Robots-Tag:noindex
X-PUBLISHED-TTL:PT1H
BEGIN:VTIMEZONE
TZID:America/Argentina/Buenos_Aires
BEGIN:STANDARD
TZOFFSETFROM:-0300
TZOFFSETTO:-0300
TZNAME:-03
DTSTART:20250101T000000
END:STANDARD
END:VTIMEZONE
BEGIN:VEVENT
DTSTART;TZID=America/Argentina/Buenos_Aires:20260407T180000
DTEND;TZID=America/Argentina/Buenos_Aires:20261027T210000
DTSTAMP:20260420T193645
CREATED:20161102T184711Z
LAST-MODIFIED:20260101T201555Z
UID:3059-1775584800-1793134800@ieec.edu.ar
SUMMARY:PDG SCM&T Desarrollo Gerencial en Supply Chain Management y Tecnología
DESCRIPTION:Los conocimientos\, conceptos\, procesos\, herramientas y tecnologías que potencian la supply chain y su impacto positivo en la cuenta de resultados. Prepara para la certificación internacional CSCP de APICS.  Más info
URL:https://ieec.edu.ar/event/curso-programa-desarrollo-gerencial-supply-chain-management-tecnologia/
LOCATION:A Distancia – eLearning\, Buenos Aires\, CABA\, Argentina
CATEGORIES:A Distancia,Cursos IEEC,eLearning,Programa
ATTACH;FMTTYPE=image/jpeg:https://ieec.edu.ar/wp-content/uploads/10-1.jpg
ORGANIZER;CN="IEEC":MAILTO:admisiones@ieec.edu.ar
END:VEVENT
BEGIN:VEVENT
DTSTART;TZID=America/Argentina/Buenos_Aires:20260504T180000
DTEND;TZID=America/Argentina/Buenos_Aires:20260218T210000
DTSTAMP:20260420T193645
CREATED:20251227T182354Z
LAST-MODIFIED:20260218T165120Z
UID:12551-1777917600-1771448400@ieec.edu.ar
SUMMARY:PATD Planificación Logística del Transporte y Distribución
DESCRIPTION:El curso de Planificación Logística del Transporte y la Distribución (PATD) brinda una visión integral de la gestión del transporte como componente clave de la supply chain\, abordando herramientas\, técnicas y estándares internacionales para mejorar la planificación\, la toma de decisiones y la eficiencia operativa. En un contexto donde el transporte representa una porción significativa del costo logístico\, el programa permite identificar oportunidades de optimización y generación de valor\, alineándose con la certificación internacional CLTD de APICS y formando parte del Diploma en Supply Chain y Logística (DCL) del IEEC.  Más info
URL:https://ieec.edu.ar/event/patd-planificacion-logistica-del-transporte-y-distribucion/
LOCATION:A Distancia – eLearning\, Buenos Aires\, CABA\, Argentina
CATEGORIES:A Distancia,Cursos IEEC,eLearning,Programa
ATTACH;FMTTYPE=image/jpeg:https://ieec.edu.ar/wp-content/uploads/9.jpg
ORGANIZER;CN="IEEC":MAILTO:admisiones@ieec.edu.ar
END:VEVENT
BEGIN:VEVENT
DTSTART;TZID=America/Argentina/Buenos_Aires:20260507T180000
DTEND;TZID=America/Argentina/Buenos_Aires:20261029T210000
DTSTAMP:20260420T193645
CREATED:20251227T182719Z
LAST-MODIFIED:20260101T201555Z
UID:12553-1778176800-1793307600@ieec.edu.ar
SUMMARY:Data Analytics en Supply Chain y Logística
DESCRIPTION:El curso de Data Analytics en Supply Chain y Logística desarrolla las competencias clave para trabajar con datos de forma efectiva\, combinando capacidad de análisis\, uso de herramientas informáticas y storytelling para comunicar conclusiones de manera clara y accesible. A través del trabajo intensivo con Excel para el análisis y Power BI para la visualización\, los participantes aprenden a interpretar datos\, generar indicadores y presentar resultados con aplicación inmediata en su entorno laboral\, priorizando siempre el razonamiento y la toma de decisiones por sobre la complejidad tecnológica..  Más info
URL:https://ieec.edu.ar/event/data-analytics-sc-logistica/
LOCATION:A Distancia – eLearning\, Buenos Aires\, CABA\, Argentina
CATEGORIES:A Distancia,Cursos IEEC,eLearning,Programa
ATTACH;FMTTYPE=image/jpeg:https://ieec.edu.ar/wp-content/uploads/5-1.jpg
ORGANIZER;CN="IEEC":MAILTO:admisiones@ieec.edu.ar
END:VEVENT
BEGIN:VEVENT
DTSTART;TZID=America/Argentina/Buenos_Aires:20261001T180000
DTEND;TZID=America/Argentina/Buenos_Aires:20261001T210000
DTSTAMP:20260420T193645
CREATED:20190902T135244Z
LAST-MODIFIED:20260101T201529Z
UID:6671-1790877600-1790888400@ieec.edu.ar
SUMMARY:Gestión de Costos para Compradores
DESCRIPTION:Sigue los lineamientos que propone la asociación dedicada a Abastecimientos y Compras más importante de Estados Unidos. Se marcan los conceptos de costos\, precios\, rentabilidad y punto de equilibrio más usados en la tarea del comprador. Se desarrolla en 4 sesiones\, en los días  jueves de 18 a 21 horas. Ver información del curso.
URL:https://ieec.edu.ar/event/gestion-de-costos-para-compradores/
LOCATION:e-Learning\, Desde donde te encuentres
CATEGORIES:A Distancia,Cursos IEEC,eLearning
ATTACH;FMTTYPE=image/png:https://ieec.edu.ar/wp-content/uploads/Diseno-sin-titulo-2025-12-26T182618.526.png
ORGANIZER;CN="IEEC":MAILTO:admisiones@ieec.edu.ar
END:VEVENT
BEGIN:VEVENT
DTSTART;TZID=America/Argentina/Buenos_Aires:20261009T090000
DTEND;TZID=America/Argentina/Buenos_Aires:20261009T180000
DTSTAMP:20260420T193645
CREATED:20251227T195927Z
LAST-MODIFIED:20260101T201529Z
UID:12611-1791536400-1791568800@ieec.edu.ar
SUMMARY:Advanced Demand Planning
DESCRIPTION:El curso tiene una perspectiva práctica y centrada en ampliar las herramientas más utilizadas​ ​en planificación de la Demanda. Desarrolla el marco​ que mejora la planificación del negocio evitando​ ​costos difíciles de remediar. Más información: haga clic \n 
URL:https://ieec.edu.ar/event/advanced-demand-planning-2/
LOCATION:e-Learning\, Desde donde te encuentres
CATEGORIES:A Distancia,Cursos IEEC,eLearning
ATTACH;FMTTYPE=image/png:https://ieec.edu.ar/wp-content/uploads/Tapa_ADP.png
ORGANIZER;CN="IEEC":MAILTO:admisiones@ieec.edu.ar
END:VEVENT
BEGIN:VEVENT
DTSTART;TZID=America/Argentina/Buenos_Aires:20261017T090000
DTEND;TZID=America/Argentina/Buenos_Aires:20261017T130000
DTSTAMP:20260420T193645
CREATED:20251227T193012Z
LAST-MODIFIED:20260101T201529Z
UID:12598-1792227600-1792242000@ieec.edu.ar
SUMMARY:Liderazgo Imprescindible
DESCRIPTION:Este curso propone reflexionar y desarrollar las habilidades de liderazgo necesarias para afrontar la creciente complejidad y velocidad de cambio en las organizaciones\, poniendo en el centro al factor humano como eje del desempeño y la sostenibilidad. A través de un programa introductorio y aplicado\, se promueve la discusión sobre nuevas capacidades\, estilos de liderazgo y prácticas organizacionales\, orientadas a generar equipos más adaptables\, comprometidos y preparados para los desafíos actuales y futuros. Más información.
URL:https://ieec.edu.ar/event/liderazgo-imprescindible/
LOCATION:e-Learning\, Desde donde te encuentres
CATEGORIES:A Distancia,Cursos IEEC,eLearning
ATTACH;FMTTYPE=image/png:https://ieec.edu.ar/wp-content/uploads/Tapa_Mod01.png
ORGANIZER;CN="IEEC":MAILTO:admisiones@ieec.edu.ar
END:VEVENT
BEGIN:VEVENT
DTSTART;TZID=America/Argentina/Buenos_Aires:20261031T090000
DTEND;TZID=America/Argentina/Buenos_Aires:20261031T140000
DTSTAMP:20260420T193645
CREATED:20251227T185829Z
LAST-MODIFIED:20260220T122901Z
UID:12564-1793437200-1793455200@ieec.edu.ar
SUMMARY:Gestión de Almacenes\, Bodegas y Depósitos
DESCRIPTION:El curso brinda los fundamentos para comprender\, diseñar y optimizar los procesos clave de los depósitos dentro de la Supply Chain\, integrando conceptos teóricos y prácticos de la operación logística. A partir del análisis de buenas prácticas\, indicadores de gestión\, soluciones tecnológicas y criterios de diseño\, los participantes adquieren herramientas para mejorar la eficiencia\, optimizar el uso del espacio\, seleccionar el equipamiento adecuado y generar ventajas competitivas en la gestión de almacenes y centros de distribución. Se cursa los sábados de 9 a 14 horas. Ver info del curso.
URL:https://ieec.edu.ar/event/gestion-de-almacenes-bodegas-y-depositos-2/
LOCATION:e-Learning\, Desde donde te encuentres
CATEGORIES:A Distancia,Almacenes,Cursos IEEC,Cursos IMML,eLearning
ATTACH;FMTTYPE=image/jpeg:https://ieec.edu.ar/wp-content/uploads/1.jpg
ORGANIZER;CN="IMML":MAILTO:admisiones@ieec.edu.ar
END:VEVENT
BEGIN:VEVENT
DTSTART;TZID=America/Argentina/Buenos_Aires:20261104T183000
DTEND;TZID=America/Argentina/Buenos_Aires:20261104T210000
DTSTAMP:20260420T193645
CREATED:20251227T190138Z
LAST-MODIFIED:20260330T235613Z
UID:12569-1793817000-1793826000@ieec.edu.ar
SUMMARY:Aplicaciones de la IA Generativa en Supply Chain con Ingeniería de Prompts
DESCRIPTION:Participarás de un recorrido que enseñará cómo crear indicaciones (prompts) efectivas que provocarán la generación de respuestas precisas y relevantes a partir de modelos reconocidos\, como\, por ejemplo\, ChatGPT\, Gemini\, Claude\, Perplexity\, Copilot\, y otros más\, que aplicados sobre un marco de trabajo de referencia de procesos de la cadena de abastecimiento ayudarán a tener resultados confiables y aplicables al entorno real. \nMás información sobre el curso (hacer clic)
URL:https://ieec.edu.ar/event/aplicaciones-de-la-ia-generativa-en-supply-chain-con-ingenieria-de-prompts-2/
LOCATION:e-Learning\, Desde donde te encuentres
CATEGORIES:A Distancia,Cursos IEEC,eLearning
ATTACH;FMTTYPE=image/png:https://ieec.edu.ar/wp-content/uploads/Diseno-sin-titulo-2025-12-26T120259.153.png
ORGANIZER;CN="IEEC":MAILTO:admisiones@ieec.edu.ar
END:VEVENT
BEGIN:VEVENT
DTSTART;TZID=America/Argentina/Buenos_Aires:20261105T180000
DTEND;TZID=America/Argentina/Buenos_Aires:20261105T210000
DTSTAMP:20260420T193645
CREATED:20251227T190832Z
LAST-MODIFIED:20260218T162933Z
UID:12580-1793901600-1793912400@ieec.edu.ar
SUMMARY:Basics of Supply Chain Management
DESCRIPTION:Para aprender las habilidades y competencias necesarias para planificar y programar los procesos logísticos y de servicios\, desde la compra y producción hasta la entrega a los clientes. Viernes 9 a 18 horas. Más info
URL:https://ieec.edu.ar/event/basics-of-supply-chain-management-4/
LOCATION:A Distancia – eLearning\, Buenos Aires\, CABA\, Argentina
CATEGORIES:A Distancia,Cursos IEEC,eLearning
ATTACH;FMTTYPE=image/jpeg:https://ieec.edu.ar/wp-content/uploads/4-1.jpg
ORGANIZER;CN="IEEC":MAILTO:admisiones@ieec.edu.ar
END:VEVENT
BEGIN:VEVENT
DTSTART;TZID=America/Argentina/Buenos_Aires:20261111T180000
DTEND;TZID=America/Argentina/Buenos_Aires:20261111T210000
DTSTAMP:20260420T193645
CREATED:20251227T191433Z
LAST-MODIFIED:20260401T155402Z
UID:12587-1794420000-1794430800@ieec.edu.ar
SUMMARY:Basics of Supply Chain Management Plus
DESCRIPTION:La continuidad del BSCM para trabajar con problemas\, discutirlos y ampliar herramientas. Más ejercicios y más herramientas para los que hacen Planificación de Demanda y de Inventarios. Curso práctico. Miércoles 18 a 21 horas. Ver información del curso.
URL:https://ieec.edu.ar/event/basics-of-supply-chain-management-plus-3/
LOCATION:A Distancia – eLearning\, Buenos Aires\, CABA\, Argentina
CATEGORIES:A Distancia,Cursos IEEC,eLearning
ATTACH;FMTTYPE=image/jpeg:https://ieec.edu.ar/wp-content/uploads/14_Importancia-de-la-calidad-en-una-empresaS.jpg
ORGANIZER;CN="IEEC":MAILTO:admisiones@ieec.edu.ar
END:VEVENT
END:VCALENDAR