BEGIN:VCALENDAR
VERSION:2.0
PRODID:-//IEEC - ECPv6.15.20//NONSGML v1.0//EN
CALSCALE:GREGORIAN
METHOD:PUBLISH
X-ORIGINAL-URL:https://ieec.edu.ar
X-WR-CALDESC:Eventos para IEEC
REFRESH-INTERVAL;VALUE=DURATION:PT1H
X-Robots-Tag:noindex
X-PUBLISHED-TTL:PT1H
BEGIN:VTIMEZONE
TZID:America/Argentina/Buenos_Aires
BEGIN:STANDARD
TZOFFSETFROM:-0300
TZOFFSETTO:-0300
TZNAME:-03
DTSTART:20250101T000000
END:STANDARD
END:VTIMEZONE
BEGIN:VEVENT
DTSTART;TZID=America/Argentina/Buenos_Aires:20260806T180000
DTEND;TZID=America/Argentina/Buenos_Aires:20260806T220000
DTSTAMP:20260421T130724
CREATED:20220526T045946Z
LAST-MODIFIED:20260101T201529Z
UID:9415-1786039200-1786053600@ieec.edu.ar
SUMMARY:Aspectos Legales y Contratos en Abastecimiento y Compras
DESCRIPTION:Instrumentos Legales más comunes de aplicación; contratos; resolución de conflictos; negociaciones profesionales con proveedores. Se desarrolla en cuatro jueves\, de 18:00 a 22:00 horas. Más detalles \n 
URL:https://ieec.edu.ar/event/curso-aspectos-legales-y-contratos-en-abastecimiento-y-compras/
LOCATION:A Distancia – eLearning\, Buenos Aires\, CABA\, Argentina
CATEGORIES:A Distancia,Cursos IEEC,eLearning
ATTACH;FMTTYPE=image/png:https://ieec.edu.ar/wp-content/uploads/Diseno-sin-titulo-2025-12-26T180926.692.png
ORGANIZER;CN="IEEC":MAILTO:admisiones@ieec.edu.ar
END:VEVENT
END:VCALENDAR